BEGIN:VCALENDAR
VERSION:2.0
PRODID:-//PYVOBJECT//NONSGML Version 0.9.9//EN
X-WR-TIMEZONE:Africa/Johannesburg
BEGIN:VTIMEZONE
TZID:Africa/Johannesburg
BEGIN:STANDARD
DTSTART:20000101T000000
RRULE:FREQ=YEARLY;BYMONTH=1
TZNAME:SAST
TZOFFSETFROM:+0200
TZOFFSETTO:+0200
END:STANDARD
END:VTIMEZONE
BEGIN:VEVENT
UID:20260421T023836Z - 89242@eos-content
DTSTART;TZID=Africa/Johannesburg:20260425T140000
DTEND;TZID=Africa/Johannesburg:20260425T170000
ATTENDEE:MAILTO:antonie@o-yes.co.za
ATTENDEE:MAILTO:johanrealestate1@gmail.com
DESCRIPTION:https://www.o-yesproperties.co.za/results/residential/for-sale/
 pretoria/rietvalleirand/house/3096154/\n\nBy appointment\n\nAntonie van Vu
 uren (0734469112)\n\nJohan Roelofse (0827114242)
DTSTAMP:20260421T023836Z
LOCATION:Rietvalleirand\, Pretoria
SUMMARY:O-YES Properties Show Day - OYR5973
END:VEVENT
END:VCALENDAR
