BEGIN:VCALENDAR
VERSION:2.0
PRODID:-//PYVOBJECT//NONSGML Version 0.9.9//EN
X-WR-TIMEZONE:Africa/Johannesburg
BEGIN:VTIMEZONE
TZID:Africa/Johannesburg
BEGIN:STANDARD
DTSTART:20000101T000000
RRULE:FREQ=YEARLY;BYMONTH=1
TZNAME:SAST
TZOFFSETFROM:+0200
TZOFFSETTO:+0200
END:STANDARD
END:VTIMEZONE
BEGIN:VEVENT
UID:20260421T043403Z - 26104@eos-content
DTSTART;TZID=Africa/Johannesburg:20260426T140000
DTEND;TZID=Africa/Johannesburg:20260426T160000
ATTENDEE:MAILTO:cheryl@o-yes.co.za
DESCRIPTION:https://www.o-yesproperties.co.za/results/residential/for-sale/
 randburg/berario/house/2517958/\n\n230 Dolores Ave\, Berario\n\nCheryl Red
 l (0834606038)
DTSTAMP:20260421T043403Z
LOCATION:Berario\, Randburg
SUMMARY:O-YES Properties Show Day - OYR4762
END:VEVENT
END:VCALENDAR
