BEGIN:VCALENDAR
VERSION:2.0
PRODID:-//PYVOBJECT//NONSGML Version 0.9.9//EN
X-WR-TIMEZONE:Africa/Johannesburg
BEGIN:VTIMEZONE
TZID:Africa/Johannesburg
BEGIN:STANDARD
DTSTART:20000101T000000
RRULE:FREQ=YEARLY;BYMONTH=1
TZNAME:SAST
TZOFFSETFROM:+0200
TZOFFSETTO:+0200
END:STANDARD
END:VTIMEZONE
BEGIN:VEVENT
UID:20260421T101444Z - 13114@eos-content
DTSTART;TZID=Africa/Johannesburg:20260425T140000
DTEND;TZID=Africa/Johannesburg:20260425T170000
ATTENDEE:MAILTO:daniel@o-yes.co.za
DESCRIPTION:https://www.o-yesproperties.co.za/results/residential/for-sale/
 centurion/thatchfield-hills/house/2507766/2956-falcon/\n\nThatchfield hill
 s\n\nKeoagile Ditlhage (0731531063)
DTSTAMP:20260421T101444Z
LOCATION:2956 Falcon\, Thatchfield Hills\, Centurion
SUMMARY:O-YES Properties Show Day - OYR4750
END:VEVENT
END:VCALENDAR
